BEGIN:VCALENDAR
VERSION:2.0
PRODID:-//ChamberMaster//Event Calendar 2.0//EN
METHOD:PUBLISH
X-PUBLISHED-TTL:P1H
REFRESH-INTERVAL:P1H
CALSCALE:GREGORIAN
BEGIN:VTIMEZONE
TZID:America/Chicago
BEGIN:DAYLIGHT
RRULE:FREQ=YEARLY;BYMONTH=3;BYDAY=2SU
DTSTART:20070101T000000
TZOFFSETFROM:-0600
TZOFFSETTO:-0500
TZNAME:Central Daylight Time
END:DAYLIGHT
BEGIN:STANDARD
RRULE:FREQ=YEARLY;BYMONTH=11;BYDAY=1SU
DTSTART:20070101T000000
TZOFFSETFROM:-0500
TZOFFSETTO:-0600
TZNAME:Central Standard Time
END:STANDARD
END:VTIMEZONE
BEGIN:VEVENT
DTSTART;TZID=America/Chicago:20260805T090000
DTEND;TZID=America/Chicago:20260805T170000
X-MICROSOFT-CDO-ALLDAYEVENT:FALSE
SUMMARY:CREA-Beginning Teacher Network-August 2026-May 2027
DESCRIPTION:The CREA Beginning Teacher Network is a professional learning opportunity designed to support 1st- and 2nd-year educators\, as well as those new to the profession\, as they begin their teaching journey in central North Dakota. This network provides practical\, research-based strategies to help educators build confidence and success in the classroom.Participants will engage in learning focused on key areas such as classroom management\, student engagement\, instructional best practices\, and effective routines that create positive learning environments. Planned offerings include CHAMPS/DSC\, the Explicit Instruction Learning Series (three-part training)\, and ongoing implementation support throughout the school year to help teachers apply new learning in their classrooms.The CREA Beginning Teacher Network is designed to foster connection\, encouragement\, and professional growth while equipping new educators with tools for long-term success. Graduate Credits: 2 graduate credits will be available to eligible participants through Valley City State University. More information will be shared with registrants. More specific date and locations will be shared with registrants upon confirmation of those details!
X-ALT-DESC;FMTTYPE=text/html:<!DOCTYPE html><html><head><title></title></head><body aria-disabled="false"><p><meta charset="utf-8"></p><p><span style="font-size: inherit\;">The <strong fr-original-style="" style="font-weight: 700\;">CREA Beginning Teacher Network</strong> is a professional learning opportunity designed to support 1st- and 2nd-year educators\, as well as those new to the profession\, as they begin their teaching journey in central North Dakota. This network provides practical\, research-based strategies to help educators build confidence and success in the classroom.</span></p><p><span style="font-size: inherit\;">Participants will engage in learning focused on key areas such as classroom management\, student engagement\, instructional best practices\, and effective routines that create positive learning environments. Planned offerings include <strong fr-original-style="" style="font-weight: 700\;">CHAMPS/DSC</strong>\, the <strong fr-original-style="" style="font-weight: 700\;">Explicit Instruction Learning Series</strong> (three-part training)\, and ongoing implementation support throughout the school year to help teachers apply new learning in their classrooms.</span></p><p><span style="font-size: inherit\;">The CREA Beginning Teacher Network is designed to foster connection\, encouragement\, and professional growth while equipping new educators with tools for long-term success.</span>&nbsp\;</p><p><strong fr-original-style="" style="font-weight: 700\;">Graduate Credits</strong>: 2 graduate credits will be available to eligible participants through Valley City State University. More information will be shared with registrants.&nbsp\;</p><p>More specific date and locations will be shared with registrants upon confirmation of those details!&nbsp\;</p><p><br></p></body></html>
LOCATION:
UID:e.1751.1449143
SEQUENCE:3
DTSTAMP:20260423T145521Z
URL:https://members.ndrea.org/ndrea-events/Details/crea-beginning-teacher-network-august-2026-may-2027-1716491?sourceTypeId=Hub
END:VEVENT
END:VCALENDAR
